BEGIN:VCALENDAR
VERSION:2.0
PRODID:-//L&#039;agenda de l&#039;Orientation en Normandie - ECPv4.6.26.1//NONSGML v1.0//EN
CALSCALE:GREGORIAN
METHOD:PUBLISH
X-WR-CALNAME:L&#039;agenda de l&#039;Orientation en Normandie
X-ORIGINAL-URL:http://agenda.orientation-normandie.fr
X-WR-CALDESC:Évènements pour L&#039;agenda de l&#039;Orientation en Normandie
BEGIN:VEVENT
DTSTART;TZID=Europe/Paris:20190419T093000
DTEND;TZID=Europe/Paris:20190419T113000
DTSTAMP:20260425T160348
CREATED:20190110T105236Z
LAST-MODIFIED:20190329T132019Z
UID:1077-1555666200-1555673400@agenda.orientation-normandie.fr
SUMMARY:ATELIER CIBLEZ VOS COMPÉTENCES
DESCRIPTION:Vous avez une expérience professionnelle d’au moins 5 ans ? Vous avez envie d’évoluer ou de changer de métier ?\nÀ partir du logiciel Transférence\, cet atelier vous permettra d’identifier et de valoriser vos compétences pour mieux vous positionner sur le marché de l’emploi ou réfléchir à de nouvelles pistes professionnelles. \n
URL:http://agenda.orientation-normandie.fr/evenement/atelier-ciblez-vos-competences-2019-04-19/
LOCATION:Cité des Métiers de Normandie\, 115 boulevard de l Europe\, ROUEN\, 76100\, France
CATEGORIES:Emploi
ATTACH;FMTTYPE=image/jpeg:http://agenda.orientation-normandie.fr/wp-content/uploads/2019/01/AT_ciblez_365x250.jpg
END:VEVENT
END:VCALENDAR